BEGIN:VCALENDAR
VERSION:2.0
PRODID:-//Ich brauche eine Genie - ECPv4.8.2//NONSGML v1.0//EN
CALSCALE:GREGORIAN
METHOD:PUBLISH
X-WR-CALNAME:Ich brauche eine Genie
X-ORIGINAL-URL:https://www.ichbraucheeinegenie.de
X-WR-CALDESC:Veranstaltungen im Ich brauche eine Genie
BEGIN:VEVENT
DTSTART;TZID=Europe/Berlin:20220909T200000
DTEND;TZID=Europe/Berlin:20220909T230000
DTSTAMP:20260420T154639
CREATED:20220804T151859Z
LAST-MODIFIED:20220804T152004Z
UID:5349-1662753600-1662764400@www.ichbraucheeinegenie.de
SUMMARY:09.09. 2022: Ich Brauche Eine Genie goes Hamburg!
DESCRIPTION:Bohemian Strawberry Records & f*mz prĂ¤sentieren: \n  \nICH BRAUCHE EINE GENIE goesÂ Hamburg &#8211; Popkultur\, Feminismus\, frĂ¶hliche KĂ¤mpferinnen & so \nÂ  \n09.09.2022 Einlass: 19 h\, Beginn: 20 hÂ  Ort: HAUSDREI\, Altona \n  \nIn Berlin ist die Reihe â€žIch Brauche Eine Genieâ€ś systemrelevant fĂĽr den musikalischen Underground. Die Musikerinnen und Autorinnen Kersty Grether und Sandra Grether veranstalten dort seit 5 Jahren die geniale Reihe. Musikerinnen betreten schon als Genies die BĂĽhne!â€ś Es ist klar: der Kult ums â€žmĂ¤nnliche Genieâ€ś muss der Vergangenheit angehĂ¶ren. Das tiefe Vertrauen in die mĂ¤nnlichen FĂ¤higkeiten\, das als Kehrseite der Medaille eine ewige Skepsis gegenĂĽber Musikerinnen* in sich trĂ¤gt. Nun gastiert die Reihe erstmals in Hamburg! Und das SchĂ¶nste daran: wir feiern gleichzeitig den 35. Birthday des F*mz. Seit sage und schreibe 35 (!) Jahren bietet das Frauenmusikzentrum FLINTA*-Personen eine musikalischePlattform: Divers\, feministisch\, musikalischÂ  &#8211; und genialisch! \n  \nLivemusik:  \nLIZZN: spielt Soul und Jazz-getriebenen HipHop! \n  \nMit Loopstation und einer authentisch sympathischen Verpeiltheit lĂ¤sst LIZZN euch in eine Palette von Emotionen eintauchen\, die ein buntes GemĂ¤lde erschaffen: die erste EP der Hamburger Rapperin trĂ¤gt den Namen â€śLIZZN to myselfâ€ť. Darauf singt die SĂ¤ngerin und Beatboxerin ĂĽber mentale Gesundheit und toxische VerhĂ¤ltnisse. Motto: â€žReflektieren. Haltung zeigen. Betroffenen glauben.â€ś Mit Hymnen wie â€žKein Lovesongâ€ś schafft LIZZN dabei frĂ¶hliches Empowerment und GĂ¤nsehaut-Harmonien! \nLizznsÂ erste Single â€žStille Wasserâ€ś entstand in einer Phase voller UmbrĂĽche und Unsicherheiten. Der Song wirkt dabei jedoch wie eine Erkenntnis ihrer Selbstreflexion\, eine kleine Katharsis\, aus der sie als KĂĽnstlerin hervorgeht. â€žWerte nicht das Aussehen\, rede mit mir einfachâ€ś\, so rappt sie auf einem vertrĂ¤umten ChillHop-Beat und zeigt damit\, wie viel Tiefsinnigkeit und Erfahrung in diesem stillen Wasser namensÂ LizznÂ steckt. \nLIZZN &#8211; Wut (Prod.by Supreme.Frost) (Official Musicvideo) &#8211; YouTube \n  \n  \nTHE DOCTORELLA: spielen New-Wave-Rock-Chansons mit glitterschmetter Textflow! \nIn der Zeitung â€žneues deutschlandâ€ś war neulich zu lesen: â€žDen Abend erĂ¶ffneten die Gastgeberinnen mit neuen StĂĽcken ihrer immer wieder erstaunlichen Band The Doctorella\, die auf dem nĂ¤chsten Album erscheinen werden\, darunter auch das witzige Â»Wenn wir tot wĂ¤renÂ«\, dessen Text eine ziemlich gute Frage stellt â€¦ Live entwickeln The Doctorella die phĂ¤nomenal aufstachelnde Energie der amerikanischen Riot-Grrrl-Band Bikini Kill um 1993. Beide Grethers singen wie eine selbstbewusste Francoise Hardy\, die dabei so lĂ¤ssig erzĂ¤hlend klingt wie Dirk von Lowtzow von Tocotronic.â€ś (Kristof Schreuf in â€žneues deutschlandâ€ś. Ăśber: â€žIch Brauche Eine Genieâ€ś am 29.06.2022). \nDOCTORELLA &#8211; Du bist immer noch mein Idol &#8211; YouTube \n  \nComic-Lesung: \nLINA EHRENTRAUT: macht Zines\, Comics\, Illustrationen\, Fashion und Lesungen! \nâ€žDa steht nicht nur der Titel Kopfâ€ś schrieb die FAZ anlĂ¤sslich der ihres gefeierten Comic â€žMelek + ichâ€ś (2021\, Editon Moderne). Darin lĂ¤sst sich Lina vom Alltag genauso wie von Science-Fiction Elementen inspirieren: Â Nici ist Wissenschaftlerin und betrinkt sich gern in der Bar nebenan. Heimlich baut sie Melek\, einen KĂ¶rper\, mit dem sie in parallele Dimensionen reisen kannâ€¦ Am liebsten verbindet Lina Â genial alles miteinander. Dann tauchen KleidungsstĂĽcke in den Comics auf oder werden zu raumgreifenden Installationen. \n  \nMusikalische Lesung: \nAuĂźerdem lesen Kersty und Sandra ihre Texte aus der gerade erschienen Anthologie â€žThese Girls Tooâ€ś (Ventil Verlag\, Hrsg Juliane Streich) und stellen Lyrics aus Â den von ihnen 2021 herausgegebenen Songbook â€žIch Brauche Eine Genieâ€ś vor. \nâ€žIch brauche eine Genieâ€ś versammelt Â herausragende Songtexte von 70 Musikerinnen verschiedener Jahrzehnte und Genres in Deutschland. Dazu gibt es Begleitakkorde\, Fotos\, Plattencover\, Archivmaterial. Eine WundertĂĽte popkultureller Musikgeschichte. \n  \n
URL:https://www.ichbraucheeinegenie.de/veranstaltung/09-09-2022-ich-brauche-eine-genie-goes-hamburg/
LOCATION:HAUSDREI\, Hamburg
ATTACH;FMTTYPE=image/png:https://www.ichbraucheeinegenie.de/wp-content/uploads/2022/08/Genie19_WEB_RGB.png
END:VEVENT
END:VCALENDAR