BEGIN:VCALENDAR
VERSION:2.0
PRODID:-//Ich brauche eine Genie - ECPv4.8.2//NONSGML v1.0//EN
CALSCALE:GREGORIAN
METHOD:PUBLISH
X-WR-CALNAME:Ich brauche eine Genie
X-ORIGINAL-URL:https://www.ichbraucheeinegenie.de
X-WR-CALDESC:Veranstaltungen im Ich brauche eine Genie
BEGIN:VEVENT
DTSTART;TZID=Europe/Berlin:20220907T193000
DTEND;TZID=Europe/Berlin:20220907T223000
DTSTAMP:20260420T155313
CREATED:20220808T222447Z
LAST-MODIFIED:20220808T222448Z
UID:5406-1662579000-1662589800@www.ichbraucheeinegenie.de
SUMMARY:07.09.2022 - Krawalle & Liebe #22
DESCRIPTION:\n\nMITTWOCH\, 07. SEPTEMBER 2022\n\n\n19:30 UHR\n\n \n\n\n\n\nVERANSTALTUNGSORT\n\n\nLITERATURFORUM IM BRECHT-HAUS\nChausseestr. 125\n10115 Berlin-Mitte\nTel.: 030 &#8211; 28 22 003\nFax.: 030 &#8211; 28 23 417\ninfo(at)lfbrecht.de\nwww.lfbrecht.de \nKartenansicht\n\n\nEintritt: 5\,- € / ermäßigt: 3\,- €\nLINK ZUR VERANSTALTUNG\n\n\n\nDETAILS\n\n\nLesung\, Pop\, Theorie\, Gespräch\nGrether-Salon\nMit Ruth Herzberg\, Anton Humpe und Lutz Steinbrück\nMusik: Nashi44 und Klaus Cornfield\nModeration und Theme-Song: Kersty und Sandra Grether (The Doctorella)\nMit ausdrucksstarken Zeilen und pointiertem Humor basht die Rapperin Nashi44 das Fetischisieren südostasiatischer Stereotype: schwere Themen auf tanzbaren Sounds! Beat-Pop-Musiker Klaus Cornfield bezeichnet sich selbst als „die härteste Memme Berlins“\, live darf man sich auf Gitarren-Stunts freuen. Ruth Herzberg liest aus ihrem neuen Roman »Die aktuelle Situation«\, der sich als Bekenntnis\, Revenge Porn\, Wutanfall\, Soap Opera und Essay präsentiert. Und eine Doppel-Lyrik-Lesung vertieft die Frage: Was macht die neue Normalität der Ausnahmesituationen mit unserer Gesellschaft? Anton Humpe liest aus »endstation panik. quarantaenengedichte«\, Lutz Steinbrück stellt seinen Band »Haltlose Zustände« vor. \nPräsentiert von jungle.world \n\n\n
URL:https://www.ichbraucheeinegenie.de/veranstaltung/07-09-2022-krawalle-liebe-22/
ATTACH;FMTTYPE=image/jpeg:https://www.ichbraucheeinegenie.de/wp-content/uploads/2022/08/298004339_1037488600287372_7526409004757587617_n.jpg
END:VEVENT
END:VCALENDAR