BEGIN:VCALENDAR
VERSION:2.0
PRODID:-//Ich brauche eine Genie - ECPv4.8.2//NONSGML v1.0//EN
CALSCALE:GREGORIAN
METHOD:PUBLISH
X-WR-CALNAME:Ich brauche eine Genie
X-ORIGINAL-URL:https://www.ichbraucheeinegenie.de
X-WR-CALDESC:Veranstaltungen im Ich brauche eine Genie
BEGIN:VEVENT
DTSTART;TZID=Europe/Berlin:20220629T190000
DTEND;TZID=Europe/Berlin:20220629T230000
DTSTAMP:20260420T192315
CREATED:20220525T123142Z
LAST-MODIFIED:20220622T163601Z
UID:5174-1656529200-1656543600@www.ichbraucheeinegenie.de
SUMMARY:Ich Brauche Eine Genie #17 - Popkultur\, Feminismus\, Herstory & so
DESCRIPTION:Alle Infos hier:Â 29.06.2022: Ich Brauche Eine Genie #17 @Festsaal Kreuzberg (Biergarten) mit: Nichtseattle\, Zustra\, &#8220;These-Girls\, too&#8221;-Lesung (Sibel Schick & Juliane Streich) und The Doctorella &#8211; Ich brauche eine Genie \nUND (KOKA36): \nICH BRAUCHE EINE GENIE #17 | Konzertkasse KOKA36 \n  \n
URL:https://www.ichbraucheeinegenie.de/veranstaltung/ich-brauche-eine-genie-17-popkultur-feminismus-herstory-so/
LOCATION:Festsaal Kreuzberg Biergarten
ATTACH;FMTTYPE=image/jpeg:https://www.ichbraucheeinegenie.de/wp-content/uploads/2022/05/ichbraucheeinegenie-5.jpg
END:VEVENT
END:VCALENDAR