BEGIN:VCALENDAR
VERSION:2.0
PRODID:-//Ich brauche eine Genie - ECPv4.8.2//NONSGML v1.0//EN
CALSCALE:GREGORIAN
METHOD:PUBLISH
X-WR-CALNAME:Ich brauche eine Genie
X-ORIGINAL-URL:https://www.ichbraucheeinegenie.de
X-WR-CALDESC:Veranstaltungen im Ich brauche eine Genie
BEGIN:VEVENT
DTSTART;TZID=Europe/Berlin:20210731T200000
DTEND;TZID=Europe/Berlin:20210731T230000
DTSTAMP:20260420T074633
CREATED:20210727T203627Z
LAST-MODIFIED:20210727T203627Z
UID:4524-1627761600-1627772400@www.ichbraucheeinegenie.de
SUMMARY:Doctorella\, Rattenkabinett & Nähmaschinenduett bei den "21 sunsets" @Haus der Kulturen der Welt
DESCRIPTION:\nBuch-Premieren-Party &#8220;Ich Brauche Eine Genie&#8221;- Songbook\nSa\, 31. Juli 2021\nDoctorella\nDas Rattenkabinett\, Das Nähmaschinenduett\, „Ich brauche eine Genie“\n\n\n\n\n\n\nDoctorella | Foto: Promo \n\n\n20h Das Rattenkabinett\n20.45h Doctorella\n21.15h Buchvorstellung “Ich brauche eine Genie”\n21.30h Das Nähmaschinenduett \n\n\nDoctorella\nMit ihrer Band Doctorella bringen Kerstin und Sandra Grether augenzwinkernd-campe Lyrics mit Pop- und Folk-Musik zusammen\, die Elemente aus Chanson und Americana in sich aufnimmt. Wozu? Um nicht weniger als neue Utopien und Träume erfahrbar zu machen. Lieferte die Gruppe mit dem Debüt Drogen und Psychologen noch die Schlachtrufe der Occupy- und Slut-Walk-Bewegungen\, tauchte sie auf dem Nachfolger Ich will alles von dir nicht minder radikal tief in das Leben der großstädtischen Bohème ein\, um das Potenzial alternativer Lebensentwürfe auszuloten. \n\n \n\nDas Rattenkabinett | © Igneo Fotografias \n\n\nDas Rattenkabinett\n„Experimental – Rap – Scheppern“ fasst Das Rattenkabinett den eigenen Ansatz zusammen und alles daran stimmt. Mit ihrem Live-Hip-Hop-Sound setzt die Band um MC Lena Stoehrfaktor auf direkte und unverblümte Konfrontation. Über psychedelischen Riffs und schnurgeraden Beats spittet Stoehrfaktor Reime über den Status Quo einer Welt\, die von politischen\, sozialen und kulturellen Abgründen geprägt ist. Im Herbst 2021 erscheint das Debütalbum der neu formierten Gruppe auf dem Doctorella-Label Bohemian Strawberry. \n\n \n\nDas Nähmaschinenduett | © Klaus Erika Dietl \n\n\nDas Nähmaschinenduett\nWenn sich Lisa Simpson und Stephanie Müller an der Nähmaschine treffen\, lässt sich das Resultat zwar manchmal überziehen. Meistens aber regt es zum Umdenken an. Das Nähmaschinenduett verwebt zum Rattern der Maschinen Performance-Kunst und Sound Art\, die als kritische Auseinandersetzung mit den Ausschluss- und Ausbeutungsmechanismen der Modeindustrie zu verstehen ist. Mit sanften Vocals und den Sounds von Spielzeugen vermitteln die beiden nahtlos zwischen punkigem DIY-Spirit und avantgardistischer Musik. \n\n \n\n“Ich brauche eine Genie”\, Songbook | © Sarah Käsmayr \n\n\nIch brauche eine Genie\nherausgegeben von Kerstin und Sandra Grether\nBuchvorstellung \n\n\n\n\n\n
URL:https://www.ichbraucheeinegenie.de/veranstaltung/doctorella-rattenkabinett-naehmaschinenduett-bei-den-21-sunsets-haus-der-kulturen-der-welt/
LOCATION:Haus der Kulturen der Welt\, John-Foster-Dulles-Allee 10\, Berlin\, 10557
ATTACH;FMTTYPE=image/jpeg:https://www.ichbraucheeinegenie.de/wp-content/uploads/2021/07/20210523_165450.jpg
END:VEVENT
END:VCALENDAR